Workbook

Sheet Timesheet
A1: Jira weekly timesheet
A2: Name
A3: Week starting (Monday) | D3: Type the Monday, for example 2026-11-02. The dates under the days fill in.
A5: Issue key | B5: Summary | C5: Mon | D5: Tue | E5: Wed | F5: Thu | G5: Fri | H5: Sat | I5: Sun | J5: Total | K5: Billable
A6: Date | C6: =IF($B$3="","",$B$3+0) | D6: =IF($B$3="","",$B$3+1) | E6: =IF($B$3="","",$B$3+2) | F6: =IF($B$3="","",$B$3+3) | G6: =IF($B$3="","",$B$3+4) | H6: =IF($B$3="","",$B$3+5) | I6: =IF($B$3="","",$B$3+6)
J7: =IF(COUNT(C7:I7)=0,"",SUM(C7:I7))
J8: =IF(COUNT(C8:I8)=0,"",SUM(C8:I8))
J9: =IF(COUNT(C9:I9)=0,"",SUM(C9:I9))
J10: =IF(COUNT(C10:I10)=0,"",SUM(C10:I10))
J11: =IF(COUNT(C11:I11)=0,"",SUM(C11:I11))
J12: =IF(COUNT(C12:I12)=0,"",SUM(C12:I12))
J13: =IF(COUNT(C13:I13)=0,"",SUM(C13:I13))
J14: =IF(COUNT(C14:I14)=0,"",SUM(C14:I14))
J15: =IF(COUNT(C15:I15)=0,"",SUM(C15:I15))
J16: =IF(COUNT(C16:I16)=0,"",SUM(C16:I16))
J17: =IF(COUNT(C17:I17)=0,"",SUM(C17:I17))
J18: =IF(COUNT(C18:I18)=0,"",SUM(C18:I18))
... J26: =IF(COUNT(C26:I26)=0,"",SUM(C26:I26))
A27: Total | C27: =SUM(C7:C26) -> 0 | D27: =SUM(D7:D26) -> 0 | E27: =SUM(E7:E26) -> 0 | F27: =SUM(F7:F26) -> 0 | G27: =SUM(G7:G26) -> 0 | H27: =SUM(H7:H26) -> 0 | I27: =SUM(I7:I26) -> 0 | J27: =SUM(J7:J26) -> 0
A28: Billable hours | J28: =SUMIF(K7:K26,"Yes",J7:J26) -> 0
A29: Non-billable hours | J29: =J27-J28 -> 0
A30: Required hours this week | J30: 40
A31: Hours short of required | J31: =MAX(0,J30-J27) -> 40

Sheet Entries
A1: Issue key | B1: Date | C1: Hours | D1: Billable | E1: Description
A2: =IF(AND(ISNUMBER(INDEX(Timesheet!$C$7:$I$26,1,1)),N(INDEX(Timesheet!$C$7:$I$26,1,1))>0,TRIM(INDEX(Timesheet!$A$7:$A$26,1))<>""),UPPER(TRIM(INDEX(Timesheet!$A$7:$A$26,1))),"") | B2: =IF(A2="","",Timesheet!$B$3+0) | C2: =IF(A2="","",INDEX(Timesheet!$C$7:$I$26,1,1)) | D2: =IF(A2="","",IF(INDEX(Timesheet!$K$7:$K$26,1)="","",INDEX(Timesheet!$K$7:$K$26,1))) | E2: =IF(A2="","",IF(INDEX(Timesheet!$B$7:$B$26,1)="","",INDEX(Timesheet!$B$7:$B$26,1)))
A3: =IF(AND(ISNUMBER(INDEX(Timesheet!$C$7:$I$26,1,2)),N(INDEX(Timesheet!$C$7:$I$26,1,2))>0,TRIM(INDEX(Timesheet!$A$7:$A$26,1))<>""),UPPER(TRIM(INDEX(Timesheet!$A$7:$A$26,1))),"") | B3: =IF(A3="","",Timesheet!$B$3+1) | C3: =IF(A3="","",INDEX(Timesheet!$C$7:$I$26,1,2)) | D3: =IF(A3="","",IF(INDEX(Timesheet!$K$7:$K$26,1)="","",INDEX(Timesheet!$K$7:$K$26,1))) | E3: =IF(A3="","",IF(INDEX(Timesheet!$B$7:$B$26,1)="","",INDEX(Timesheet!$B$7:$B$26,1)))
A4: =IF(AND(ISNUMBER(INDEX(Timesheet!$C$7:$I$26,1,3)),N(INDEX(Timesheet!$C$7:$I$26,1,3))>0,TRIM(INDEX(Timesheet!$A$7:$A$26,1))<>""),UPPER(TRIM(INDEX(Timesheet!$A$7:$A$26,1))),"") | B4: =IF(A4="","",Timesheet!$B$3+2) | C4: =IF(A4="","",INDEX(Timesheet!$C$7:$I$26,1,3)) | D4: =IF(A4="","",IF(INDEX(Timesheet!$K$7:$K$26,1)="","",INDEX(Timesheet!$K$7:$K$26,1))) | E4: =IF(A4="","",IF(INDEX(Timesheet!$B$7:$B$26,1)="","",INDEX(Timesheet!$B$7:$B$26,1)))
A5: =IF(AND(ISNUMBER(INDEX(Timesheet!$C$7:$I$26,1,4)),N(INDEX(Timesheet!$C$7:$I$26,1,4))>0,TRIM(INDEX(Timesheet!$A$7:$A$26,1))<>""),UPPER(TRIM(INDEX(Timesheet!$A$7:$A$26,1))),"") | B5: =IF(A5="","",Timesheet!$B$3+3) | C5: =IF(A5="","",INDEX(Timesheet!$C$7:$I$26,1,4)) | D5: =IF(A5="","",IF(INDEX(Timesheet!$K$7:$K$26,1)="","",INDEX(Timesheet!$K$7:$K$26,1))) | E5: =IF(A5="","",IF(INDEX(Timesheet!$B$7:$B$26,1)="","",INDEX(Timesheet!$B$7:$B$26,1)))
A6: =IF(AND(ISNUMBER(INDEX(Timesheet!$C$7:$I$26,1,5)),N(INDEX(Timesheet!$C$7:$I$26,1,5))>0,TRIM(INDEX(Timesheet!$A$7:$A$26,1))<>""),UPPER(TRIM(INDEX(Timesheet!$A$7:$A$26,1))),"") | B6: =IF(A6="","",Timesheet!$B$3+4) | C6: =IF(A6="","",INDEX(Timesheet!$C$7:$I$26,1,5)) | D6: =IF(A6="","",IF(INDEX(Timesheet!$K$7:$K$26,1)="","",INDEX(Timesheet!$K$7:$K$26,1))) | E6: =IF(A6="","",IF(INDEX(Timesheet!$B$7:$B$26,1)="","",INDEX(Timesheet!$B$7:$B$26,1)))
A7: =IF(AND(ISNUMBER(INDEX(Timesheet!$C$7:$I$26,1,6)),N(INDEX(Timesheet!$C$7:$I$26,1,6))>0,TRIM(INDEX(Timesheet!$A$7:$A$26,1))<>""),UPPER(TRIM(INDEX(Timesheet!$A$7:$A$26,1))),"") | B7: =IF(A7="","",Timesheet!$B$3+5) | C7: =IF(A7="","",INDEX(Timesheet!$C$7:$I$26,1,6)) | D7: =IF(A7="","",IF(INDEX(Timesheet!$K$7:$K$26,1)="","",INDEX(Timesheet!$K$7:$K$26,1))) | E7: =IF(A7="","",IF(INDEX(Timesheet!$B$7:$B$26,1)="","",INDEX(Timesheet!$B$7:$B$26,1)))
A8: =IF(AND(ISNUMBER(INDEX(Timesheet!$C$7:$I$26,1,7)),N(INDEX(Timesheet!$C$7:$I$26,1,7))>0,TRIM(INDEX(Timesheet!$A$7:$A$26,1))<>""),UPPER(TRIM(INDEX(Timesheet!$A$7:$A$26,1))),"") | B8: =IF(A8="","",Timesheet!$B$3+6) | C8: =IF(A8="","",INDEX(Timesheet!$C$7:$I$26,1,7)) | D8: =IF(A8="","",IF(INDEX(Timesheet!$K$7:$K$26,1)="","",INDEX(Timesheet!$K$7:$K$26,1))) | E8: =IF(A8="","",IF(INDEX(Timesheet!$B$7:$B$26,1)="","",INDEX(Timesheet!$B$7:$B$26,1)))
A9: =IF(AND(ISNUMBER(INDEX(Timesheet!$C$7:$I$26,2,1)),N(INDEX(Timesheet!$C$7:$I$26,2,1))>0,TRIM(INDEX(Timesheet!$A$7:$A$26,2))<>""),UPPER(TRIM(INDEX(Timesheet!$A$7:$A$26,2))),"") | B9: =IF(A9="","",Timesheet!$B$3+0) | C9: =IF(A9="","",INDEX(Timesheet!$C$7:$I$26,2,1)) | D9: =IF(A9="","",IF(INDEX(Timesheet!$K$7:$K$26,2)="","",INDEX(Timesheet!$K$7:$K$26,2))) | E9: =IF(A9="","",IF(INDEX(Timesheet!$B$7:$B$26,2)="","",INDEX(Timesheet!$B$7:$B$26,2)))
A10: =IF(AND(ISNUMBER(INDEX(Timesheet!$C$7:$I$26,2,2)),N(INDEX(Timesheet!$C$7:$I$26,2,2))>0,TRIM(INDEX(Timesheet!$A$7:$A$26,2))<>""),UPPER(TRIM(INDEX(Timesheet!$A$7:$A$26,2))),"") | B10: =IF(A10="","",Timesheet!$B$3+1) | C10: =IF(A10="","",INDEX(Timesheet!$C$7:$I$26,2,2)) | D10: =IF(A10="","",IF(INDEX(Timesheet!$K$7:$K$26,2)="","",INDEX(Timesheet!$K$7:$K$26,2))) | E10: =IF(A10="","",IF(INDEX(Timesheet!$B$7:$B$26,2)="","",INDEX(Timesheet!$B$7:$B$26,2)))
A11: =IF(AND(ISNUMBER(INDEX(Timesheet!$C$7:$I$26,2,3)),N(INDEX(Timesheet!$C$7:$I$26,2,3))>0,TRIM(INDEX(Timesheet!$A$7:$A$26,2))<>""),UPPER(TRIM(INDEX(Timesheet!$A$7:$A$26,2))),"") | B11: =IF(A11="","",Timesheet!$B$3+2) | C11: =IF(A11="","",INDEX(Timesheet!$C$7:$I$26,2,3)) | D11: =IF(A11="","",IF(INDEX(Timesheet!$K$7:$K$26,2)="","",INDEX(Timesheet!$K$7:$K$26,2))) | E11: =IF(A11="","",IF(INDEX(Timesheet!$B$7:$B$26,2)="","",INDEX(Timesheet!$B$7:$B$26,2)))
A12: =IF(AND(ISNUMBER(INDEX(Timesheet!$C$7:$I$26,2,4)),N(INDEX(Timesheet!$C$7:$I$26,2,4))>0,TRIM(INDEX(Timesheet!$A$7:$A$26,2))<>""),UPPER(TRIM(INDEX(Timesheet!$A$7:$A$26,2))),"") | B12: =IF(A12="","",Timesheet!$B$3+3) | C12: =IF(A12="","",INDEX(Timesheet!$C$7:$I$26,2,4)) | D12: =IF(A12="","",IF(INDEX(Timesheet!$K$7:$K$26,2)="","",INDEX(Timesheet!$K$7:$K$26,2))) | E12: =IF(A12="","",IF(INDEX(Timesheet!$B$7:$B$26,2)="","",INDEX(Timesheet!$B$7:$B$26,2)))
A13: =IF(AND(ISNUMBER(INDEX(Timesheet!$C$7:$I$26,2,5)),N(INDEX(Timesheet!$C$7:$I$26,2,5))>0,TRIM(INDEX(Timesheet!$A$7:$A$26,2))<>""),UPPER(TRIM(INDEX(Timesheet!$A$7:$A$26,2))),"") | B13: =IF(A13="","",Timesheet!$B$3+4) | C13: =IF(A13="","",INDEX(Timesheet!$C$7:$I$26,2,5)) | D13: =IF(A13="","",IF(INDEX(Timesheet!$K$7:$K$26,2)="","",INDEX(Timesheet!$K$7:$K$26,2))) | E13: =IF(A13="","",IF(INDEX(Timesheet!$B$7:$B$26,2)="","",INDEX(Timesheet!$B$7:$B$26,2)))
A14: =IF(AND(ISNUMBER(INDEX(Timesheet!$C$7:$I$26,2,6)),N(INDEX(Timesheet!$C$7:$I$26,2,6))>0,TRIM(INDEX(Timesheet!$A$7:$A$26,2))<>""),UPPER(TRIM(INDEX(Timesheet!$A$7:$A$26,2))),"") | B14: =IF(A14="","",Timesheet!$B$3+5) | C14: =IF(A14="","",INDEX(Timesheet!$C$7:$I$26,2,6)) | D14: =IF(A14="","",IF(INDEX(Timesheet!$K$7:$K$26,2)="","",INDEX(Timesheet!$K$7:$K$26,2))) | E14: =IF(A14="","",IF(INDEX(Timesheet!$B$7:$B$26,2)="","",INDEX(Timesheet!$B$7:$B$26,2)))
A15: =IF(AND(ISNUMBER(INDEX(Timesheet!$C$7:$I$26,2,7)),N(INDEX(Timesheet!$C$7:$I$26,2,7))>0,TRIM(INDEX(Timesheet!$A$7:$A$26,2))<>""),UPPER(TRIM(INDEX(Timesheet!$A$7:$A$26,2))),"") | B15: =IF(A15="","",Timesheet!$B$3+6) | C15: =IF(A15="","",INDEX(Timesheet!$C$7:$I$26,2,7)) | D15: =IF(A15="","",IF(INDEX(Timesheet!$K$7:$K$26,2)="","",INDEX(Timesheet!$K$7:$K$26,2))) | E15: =IF(A15="","",IF(INDEX(Timesheet!$B$7:$B$26,2)="","",INDEX(Timesheet!$B$7:$B$26,2)))
A16: =IF(AND(ISNUMBER(INDEX(Timesheet!$C$7:$I$26,3,1)),N(INDEX(Timesheet!$C$7:$I$26,3,1))>0,TRIM(INDEX(Timesheet!$A$7:$A$26,3))<>""),UPPER(TRIM(INDEX(Timesheet!$A$7:$A$26,3))),"") | B16: =IF(A16="","",Timesheet!$B$3+0) | C16: =IF(A16="","",INDEX(Timesheet!$C$7:$I$26,3,1)) | D16: =IF(A16="","",IF(INDEX(Timesheet!$K$7:$K$26,3)="","",INDEX(Timesheet!$K$7:$K$26,3))) | E16: =IF(A16="","",IF(INDEX(Timesheet!$B$7:$B$26,3)="","",INDEX(Timesheet!$B$7:$B$26,3)))
A17: =IF(AND(ISNUMBER(INDEX(Timesheet!$C$7:$I$26,3,2)),N(INDEX(Timesheet!$C$7:$I$26,3,2))>0,TRIM(INDEX(Timesheet!$A$7:$A$26,3))<>""),UPPER(TRIM(INDEX(Timesheet!$A$7:$A$26,3))),"") | B17: =IF(A17="","",Timesheet!$B$3+1) | C17: =IF(A17="","",INDEX(Timesheet!$C$7:$I$26,3,2)) | D17: =IF(A17="","",IF(INDEX(Timesheet!$K$7:$K$26,3)="","",INDEX(Timesheet!$K$7:$K$26,3))) | E17: =IF(A17="","",IF(INDEX(Timesheet!$B$7:$B$26,3)="","",INDEX(Timesheet!$B$7:$B$26,3)))
A18: =IF(AND(ISNUMBER(INDEX(Timesheet!$C$7:$I$26,3,3)),N(INDEX(Timesheet!$C$7:$I$26,3,3))>0,TRIM(INDEX(Timesheet!$A$7:$A$26,3))<>""),UPPER(TRIM(INDEX(Timesheet!$A$7:$A$26,3))),"") | B18: =IF(A18="","",Timesheet!$B$3+2) | C18: =IF(A18="","",INDEX(Timesheet!$C$7:$I$26,3,3)) | D18: =IF(A18="","",IF(INDEX(Timesheet!$K$7:$K$26,3)="","",INDEX(Timesheet!$K$7:$K$26,3))) | E18: =IF(A18="","",IF(INDEX(Timesheet!$B$7:$B$26,3)="","",INDEX(Timesheet!$B$7:$B$26,3)))
A19: =IF(AND(ISNUMBER(INDEX(Timesheet!$C$7:$I$26,3,4)),N(INDEX(Timesheet!$C$7:$I$26,3,4))>0,TRIM(INDEX(Timesheet!$A$7:$A$26,3))<>""),UPPER(TRIM(INDEX(Timesheet!$A$7:$A$26,3))),"") | B19: =IF(A19="","",Timesheet!$B$3+3) | C19: =IF(A19="","",INDEX(Timesheet!$C$7:$I$26,3,4)) | D19: =IF(A19="","",IF(INDEX(Timesheet!$K$7:$K$26,3)="","",INDEX(Timesheet!$K$7:$K$26,3))) | E19: =IF(A19="","",IF(INDEX(Timesheet!$B$7:$B$26,3)="","",INDEX(Timesheet!$B$7:$B$26,3)))
A20: =IF(AND(ISNUMBER(INDEX(Timesheet!$C$7:$I$26,3,5)),N(INDEX(Timesheet!$C$7:$I$26,3,5))>0,TRIM(INDEX(Timesheet!$A$7:$A$26,3))<>""),UPPER(TRIM(INDEX(Timesheet!$A$7:$A$26,3))),"") | B20: =IF(A20="","",Timesheet!$B$3+4) | C20: =IF(A20="","",INDEX(Timesheet!$C$7:$I$26,3,5)) | D20: =IF(A20="","",IF(INDEX(Timesheet!$K$7:$K$26,3)="","",INDEX(Timesheet!$K$7:$K$26,3))) | E20: =IF(A20="","",IF(INDEX(Timesheet!$B$7:$B$26,3)="","",INDEX(Timesheet!$B$7:$B$26,3)))
A21: =IF(AND(ISNUMBER(INDEX(Timesheet!$C$7:$I$26,3,6)),N(INDEX(Timesheet!$C$7:$I$26,3,6))>0,TRIM(INDEX(Timesheet!$A$7:$A$26,3))<>""),UPPER(TRIM(INDEX(Timesheet!$A$7:$A$26,3))),"") | B21: =IF(A21="","",Timesheet!$B$3+5) | C21: =IF(A21="","",INDEX(Timesheet!$C$7:$I$26,3,6)) | D21: =IF(A21="","",IF(INDEX(Timesheet!$K$7:$K$26,3)="","",INDEX(Timesheet!$K$7:$K$26,3))) | E21: =IF(A21="","",IF(INDEX(Timesheet!$B$7:$B$26,3)="","",INDEX(Timesheet!$B$7:$B$26,3)))
A22: =IF(AND(ISNUMBER(INDEX(Timesheet!$C$7:$I$26,3,7)),N(INDEX(Timesheet!$C$7:$I$26,3,7))>0,TRIM(INDEX(Timesheet!$A$7:$A$26,3))<>""),UPPER(TRIM(INDEX(Timesheet!$A$7:$A$26,3))),"") | B22: =IF(A22="","",Timesheet!$B$3+6) | C22: =IF(A22="","",INDEX(Timesheet!$C$7:$I$26,3,7)) | D22: =IF(A22="","",IF(INDEX(Timesheet!$K$7:$K$26,3)="","",INDEX(Timesheet!$K$7:$K$26,3))) | E22: =IF(A22="","",IF(INDEX(Timesheet!$B$7:$B$26,3)="","",INDEX(Timesheet!$B$7:$B$26,3)))
A23: =IF(AND(ISNUMBER(INDEX(Timesheet!$C$7:$I$26,4,1)),N(INDEX(Timesheet!$C$7:$I$26,4,1))>0,TRIM(INDEX(Timesheet!$A$7:$A$26,4))<>""),UPPER(TRIM(INDEX(Timesheet!$A$7:$A$26,4))),"") | B23: =IF(A23="","",Timesheet!$B$3+0) | C23: =IF(A23="","",INDEX(Timesheet!$C$7:$I$26,4,1)) | D23: =IF(A23="","",IF(INDEX(Timesheet!$K$7:$K$26,4)="","",INDEX(Timesheet!$K$7:$K$26,4))) | E23: =IF(A23="","",IF(INDEX(Timesheet!$B$7:$B$26,4)="","",INDEX(Timesheet!$B$7:$B$26,4)))
A24: =IF(AND(ISNUMBER(INDEX(Timesheet!$C$7:$I$26,4,2)),N(INDEX(Timesheet!$C$7:$I$26,4,2))>0,TRIM(INDEX(Timesheet!$A$7:$A$26,4))<>""),UPPER(TRIM(INDEX(Timesheet!$A$7:$A$26,4))),"") | B24: =IF(A24="","",Timesheet!$B$3+1) | C24: =IF(A24="","",INDEX(Timesheet!$C$7:$I$26,4,2)) | D24: =IF(A24="","",IF(INDEX(Timesheet!$K$7:$K$26,4)="","",INDEX(Timesheet!$K$7:$K$26,4))) | E24: =IF(A24="","",IF(INDEX(Timesheet!$B$7:$B$26,4)="","",INDEX(Timesheet!$B$7:$B$26,4)))
A25: =IF(AND(ISNUMBER(INDEX(Timesheet!$C$7:$I$26,4,3)),N(INDEX(Timesheet!$C$7:$I$26,4,3))>0,TRIM(INDEX(Timesheet!$A$7:$A$26,4))<>""),UPPER(TRIM(INDEX(Timesheet!$A$7:$A$26,4))),"") | B25: =IF(A25="","",Timesheet!$B$3+2) | C25: =IF(A25="","",INDEX(Timesheet!$C$7:$I$26,4,3)) | D25: =IF(A25="","",IF(INDEX(Timesheet!$K$7:$K$26,4)="","",INDEX(Timesheet!$K$7:$K$26,4))) | E25: =IF(A25="","",IF(INDEX(Timesheet!$B$7:$B$26,4)="","",INDEX(Timesheet!$B$7:$B$26,4)))
A26: =IF(AND(ISNUMBER(INDEX(Timesheet!$C$7:$I$26,4,4)),N(INDEX(Timesheet!$C$7:$I$26,4,4))>0,TRIM(INDEX(Timesheet!$A$7:$A$26,4))<>""),UPPER(TRIM(INDEX(Timesheet!$A$7:$A$26,4))),"") | B26: =IF(A26="","",Timesheet!$B$3+3) | C26: =IF(A26="","",INDEX(Timesheet!$C$7:$I$26,4,4)) | D26: =IF(A26="","",IF(INDEX(Timesheet!$K$7:$K$26,4)="","",INDEX(Timesheet!$K$7:$K$26,4))) | E26: =IF(A26="","",IF(INDEX(Timesheet!$B$7:$B$26,4)="","",INDEX(Timesheet!$B$7:$B$26,4)))
A27: =IF(AND(ISNUMBER(INDEX(Timesheet!$C$7:$I$26,4,5)),N(INDEX(Timesheet!$C$7:$I$26,4,5))>0,TRIM(INDEX(Timesheet!$A$7:$A$26,4))<>""),UPPER(TRIM(INDEX(Timesheet!$A$7:$A$26,4))),"") | B27: =IF(A27="","",Timesheet!$B$3+4) | C27: =IF(A27="","",INDEX(Timesheet!$C$7:$I$26,4,5)) | D27: =IF(A27="","",IF(INDEX(Timesheet!$K$7:$K$26,4)="","",INDEX(Timesheet!$K$7:$K$26,4))) | E27: =IF(A27="","",IF(INDEX(Timesheet!$B$7:$B$26,4)="","",INDEX(Timesheet!$B$7:$B$26,4)))
A28: =IF(AND(ISNUMBER(INDEX(Timesheet!$C$7:$I$26,4,6)),N(INDEX(Timesheet!$C$7:$I$26,4,6))>0,TRIM(INDEX(Timesheet!$A$7:$A$26,4))<>""),UPPER(TRIM(INDEX(Timesheet!$A$7:$A$26,4))),"") | B28: =IF(A28="","",Timesheet!$B$3+5) | C28: =IF(A28="","",INDEX(Timesheet!$C$7:$I$26,4,6)) | D28: =IF(A28="","",IF(INDEX(Timesheet!$K$7:$K$26,4)="","",INDEX(Timesheet!$K$7:$K$26,4))) | E28: =IF(A28="","",IF(INDEX(Timesheet!$B$7:$B$26,4)="","",INDEX(Timesheet!$B$7:$B$26,4)))
A29: =IF(AND(ISNUMBER(INDEX(Timesheet!$C$7:$I$26,4,7)),N(INDEX(Timesheet!$C$7:$I$26,4,7))>0,TRIM(INDEX(Timesheet!$A$7:$A$26,4))<>""),UPPER(TRIM(INDEX(Timesheet!$A$7:$A$26,4))),"") | B29: =IF(A29="","",Timesheet!$B$3+6) | C29: =IF(A29="","",INDEX(Timesheet!$C$7:$I$26,4,7)) | D29: =IF(A29="","",IF(INDEX(Timesheet!$K$7:$K$26,4)="","",INDEX(Timesheet!$K$7:$K$26,4))) | E29: =IF(A29="","",IF(INDEX(Timesheet!$B$7:$B$26,4)="","",INDEX(Timesheet!$B$7:$B$26,4)))
A30: =IF(AND(ISNUMBER(INDEX(Timesheet!$C$7:$I$26,5,1)),N(INDEX(Timesheet!$C$7:$I$26,5,1))>0,TRIM(INDEX(Timesheet!$A$7:$A$26,5))<>""),UPPER(TRIM(INDEX(Timesheet!$A$7:$A$26,5))),"") | B30: =IF(A30="","",Timesheet!$B$3+0) | C30: =IF(A30="","",INDEX(Timesheet!$C$7:$I$26,5,1)) | D30: =IF(A30="","",IF(INDEX(Timesheet!$K$7:$K$26,5)="","",INDEX(Timesheet!$K$7:$K$26,5))) | E30: =IF(A30="","",IF(INDEX(Timesheet!$B$7:$B$26,5)="","",INDEX(Timesheet!$B$7:$B$26,5)))
A31: =IF(AND(ISNUMBER(INDEX(Timesheet!$C$7:$I$26,5,2)),N(INDEX(Timesheet!$C$7:$I$26,5,2))>0,TRIM(INDEX(Timesheet!$A$7:$A$26,5))<>""),UPPER(TRIM(INDEX(Timesheet!$A$7:$A$26,5))),"") | B31: =IF(A31="","",Timesheet!$B$3+1) | C31: =IF(A31="","",INDEX(Timesheet!$C$7:$I$26,5,2)) | D31: =IF(A31="","",IF(INDEX(Timesheet!$K$7:$K$26,5)="","",INDEX(Timesheet!$K$7:$K$26,5))) | E31: =IF(A31="","",IF(INDEX(Timesheet!$B$7:$B$26,5)="","",INDEX(Timesheet!$B$7:$B$26,5)))
A32: =IF(AND(ISNUMBER(INDEX(Timesheet!$C$7:$I$26,5,3)),N(INDEX(Timesheet!$C$7:$I$26,5,3))>0,TRIM(INDEX(Timesheet!$A$7:$A$26,5))<>""),UPPER(TRIM(INDEX(Timesheet!$A$7:$A$26,5))),"") | B32: =IF(A32="","",Timesheet!$B$3+2) | C32: =IF(A32="","",INDEX(Timesheet!$C$7:$I$26,5,3)) | D32: =IF(A32="","",IF(INDEX(Timesheet!$K$7:$K$26,5)="","",INDEX(Timesheet!$K$7:$K$26,5))) | E32: =IF(A32="","",IF(INDEX(Timesheet!$B$7:$B$26,5)="","",INDEX(Timesheet!$B$7:$B$26,5)))
A33: =IF(AND(ISNUMBER(INDEX(Timesheet!$C$7:$I$26,5,4)),N(INDEX(Timesheet!$C$7:$I$26,5,4))>0,TRIM(INDEX(Timesheet!$A$7:$A$26,5))<>""),UPPER(TRIM(INDEX(Timesheet!$A$7:$A$26,5))),"") | B33: =IF(A33="","",Timesheet!$B$3+3) | C33: =IF(A33="","",INDEX(Timesheet!$C$7:$I$26,5,4)) | D33: =IF(A33="","",IF(INDEX(Timesheet!$K$7:$K$26,5)="","",INDEX(Timesheet!$K$7:$K$26,5))) | E33: =IF(A33="","",IF(INDEX(Timesheet!$B$7:$B$26,5)="","",INDEX(Timesheet!$B$7:$B$26,5)))
A34: =IF(AND(ISNUMBER(INDEX(Timesheet!$C$7:$I$26,5,5)),N(INDEX(Timesheet!$C$7:$I$26,5,5))>0,TRIM(INDEX(Timesheet!$A$7:$A$26,5))<>""),UPPER(TRIM(INDEX(Timesheet!$A$7:$A$26,5))),"") | B34: =IF(A34="","",Timesheet!$B$3+4) | C34: =IF(A34="","",INDEX(Timesheet!$C$7:$I$26,5,5)) | D34: =IF(A34="","",IF(INDEX(Timesheet!$K$7:$K$26,5)="","",INDEX(Timesheet!$K$7:$K$26,5))) | E34: =IF(A34="","",IF(INDEX(Timesheet!$B$7:$B$26,5)="","",INDEX(Timesheet!$B$7:$B$26,5)))
A35: =IF(AND(ISNUMBER(INDEX(Timesheet!$C$7:$I$26,5,6)),N(INDEX(Timesheet!$C$7:$I$26,5,6))>0,TRIM(INDEX(Timesheet!$A$7:$A$26,5))<>""),UPPER(TRIM(INDEX(Timesheet!$A$7:$A$26,5))),"") | B35: =IF(A35="","",Timesheet!$B$3+5) | C35: =IF(A35="","",INDEX(Timesheet!$C$7:$I$26,5,6)) | D35: =IF(A35="","",IF(INDEX(Timesheet!$K$7:$K$26,5)="","",INDEX(Timesheet!$K$7:$K$26,5))) | E35: =IF(A35="","",IF(INDEX(Timesheet!$B$7:$B$26,5)="","",INDEX(Timesheet!$B$7:$B$26,5)))
A36: =IF(AND(ISNUMBER(INDEX(Timesheet!$C$7:$I$26,5,7)),N(INDEX(Timesheet!$C$7:$I$26,5,7))>0,TRIM(INDEX(Timesheet!$A$7:$A$26,5))<>""),UPPER(TRIM(INDEX(Timesheet!$A$7:$A$26,5))),"") | B36: =IF(A36="","",Timesheet!$B$3+6) | C36: =IF(A36="","",INDEX(Timesheet!$C$7:$I$26,5,7)) | D36: =IF(A36="","",IF(INDEX(Timesheet!$K$7:$K$26,5)="","",INDEX(Timesheet!$K$7:$K$26,5))) | E36: =IF(A36="","",IF(INDEX(Timesheet!$B$7:$B$26,5)="","",INDEX(Timesheet!$B$7:$B$26,5)))
A37: =IF(AND(ISNUMBER(INDEX(Timesheet!$C$7:$I$26,6,1)),N(INDEX(Timesheet!$C$7:$I$26,6,1))>0,TRIM(INDEX(Timesheet!$A$7:$A$26,6))<>""),UPPER(TRIM(INDEX(Timesheet!$A$7:$A$26,6))),"") | B37: =IF(A37="","",Timesheet!$B$3+0) | C37: =IF(A37="","",INDEX(Timesheet!$C$7:$I$26,6,1)) | D37: =IF(A37="","",IF(INDEX(Timesheet!$K$7:$K$26,6)="","",INDEX(Timesheet!$K$7:$K$26,6))) | E37: =IF(A37="","",IF(INDEX(Timesheet!$B$7:$B$26,6)="","",INDEX(Timesheet!$B$7:$B$26,6)))
A38: =IF(AND(ISNUMBER(INDEX(Timesheet!$C$7:$I$26,6,2)),N(INDEX(Timesheet!$C$7:$I$26,6,2))>0,TRIM(INDEX(Timesheet!$A$7:$A$26,6))<>""),UPPER(TRIM(INDEX(Timesheet!$A$7:$A$26,6))),"") | B38: =IF(A38="","",Timesheet!$B$3+1) | C38: =IF(A38="","",INDEX(Timesheet!$C$7:$I$26,6,2)) | D38: =IF(A38="","",IF(INDEX(Timesheet!$K$7:$K$26,6)="","",INDEX(Timesheet!$K$7:$K$26,6))) | E38: =IF(A38="","",IF(INDEX(Timesheet!$B$7:$B$26,6)="","",INDEX(Timesheet!$B$7:$B$26,6)))
A39: =IF(AND(ISNUMBER(INDEX(Timesheet!$C$7:$I$26,6,3)),N(INDEX(Timesheet!$C$7:$I$26,6,3))>0,TRIM(INDEX(Timesheet!$A$7:$A$26,6))<>""),UPPER(TRIM(INDEX(Timesheet!$A$7:$A$26,6))),"") | B39: =IF(A39="","",Timesheet!$B$3+2) | C39: =IF(A39="","",INDEX(Timesheet!$C$7:$I$26,6,3)) | D39: =IF(A39="","",IF(INDEX(Timesheet!$K$7:$K$26,6)="","",INDEX(Timesheet!$K$7:$K$26,6))) | E39: =IF(A39="","",IF(INDEX(Timesheet!$B$7:$B$26,6)="","",INDEX(Timesheet!$B$7:$B$26,6)))
A40: =IF(AND(ISNUMBER(INDEX(Timesheet!$C$7:$I$26,6,4)),N(INDEX(Timesheet!$C$7:$I$26,6,4))>0,TRIM(INDEX(Timesheet!$A$7:$A$26,6))<>""),UPPER(TRIM(INDEX(Timesheet!$A$7:$A$26,6))),"") | B40: =IF(A40="","",Timesheet!$B$3+3) | C40: =IF(A40="","",INDEX(Timesheet!$C$7:$I$26,6,4)) | D40: =IF(A40="","",IF(INDEX(Timesheet!$K$7:$K$26,6)="","",INDEX(Timesheet!$K$7:$K$26,6))) | E40: =IF(A40="","",IF(INDEX(Timesheet!$B$7:$B$26,6)="","",INDEX(Timesheet!$B$7:$B$26,6)))
A41: =IF(AND(ISNUMBER(INDEX(Timesheet!$C$7:$I$26,6,5)),N(INDEX(Timesheet!$C$7:$I$26,6,5))>0,TRIM(INDEX(Timesheet!$A$7:$A$26,6))<>""),UPPER(TRIM(INDEX(Timesheet!$A$7:$A$26,6))),"") | B41: =IF(A41="","",Timesheet!$B$3+4) | C41: =IF(A41="","",INDEX(Timesheet!$C$7:$I$26,6,5)) | D41: =IF(A41="","",IF(INDEX(Timesheet!$K$7:$K$26,6)="","",INDEX(Timesheet!$K$7:$K$26,6))) | E41: =IF(A41="","",IF(INDEX(Timesheet!$B$7:$B$26,6)="","",INDEX(Timesheet!$B$7:$B$26,6)))
A42: =IF(AND(ISNUMBER(INDEX(Timesheet!$C$7:$I$26,6,6)),N(INDEX(Timesheet!$C$7:$I$26,6,6))>0,TRIM(INDEX(Timesheet!$A$7:$A$26,6))<>""),UPPER(TRIM(INDEX(Timesheet!$A$7:$A$26,6))),"") | B42: =IF(A42="","",Timesheet!$B$3+5) | C42: =IF(A42="","",INDEX(Timesheet!$C$7:$I$26,6,6)) | D42: =IF(A42="","",IF(INDEX(Timesheet!$K$7:$K$26,6)="","",INDEX(Timesheet!$K$7:$K$26,6))) | E42: =IF(A42="","",IF(INDEX(Timesheet!$B$7:$B$26,6)="","",INDEX(Timesheet!$B$7:$B$26,6)))
A43: =IF(AND(ISNUMBER(INDEX(Timesheet!$C$7:$I$26,6,7)),N(INDEX(Timesheet!$C$7:$I$26,6,7))>0,TRIM(INDEX(Timesheet!$A$7:$A$26,6))<>""),UPPER(TRIM(INDEX(Timesheet!$A$7:$A$26,6))),"") | B43: =IF(A43="","",Timesheet!$B$3+6) | C43: =IF(A43="","",INDEX(Timesheet!$C$7:$I$26,6,7)) | D43: =IF(A43="","",IF(INDEX(Timesheet!$K$7:$K$26,6)="","",INDEX(Timesheet!$K$7:$K$26,6))) | E43: =IF(A43="","",IF(INDEX(Timesheet!$B$7:$B$26,6)="","",INDEX(Timesheet!$B$7:$B$26,6)))
A44: =IF(AND(ISNUMBER(INDEX(Timesheet!$C$7:$I$26,7,1)),N(INDEX(Timesheet!$C$7:$I$26,7,1))>0,TRIM(INDEX(Timesheet!$A$7:$A$26,7))<>""),UPPER(TRIM(INDEX(Timesheet!$A$7:$A$26,7))),"") | B44: =IF(A44="","",Timesheet!$B$3+0) | C44: =IF(A44="","",INDEX(Timesheet!$C$7:$I$26,7,1)) | D44: =IF(A44="","",IF(INDEX(Timesheet!$K$7:$K$26,7)="","",INDEX(Timesheet!$K$7:$K$26,7))) | E44: =IF(A44="","",IF(INDEX(Timesheet!$B$7:$B$26,7)="","",INDEX(Timesheet!$B$7:$B$26,7)))
A45: =IF(AND(ISNUMBER(INDEX(Timesheet!$C$7:$I$26,7,2)),N(INDEX(Timesheet!$C$7:$I$26,7,2))>0,TRIM(INDEX(Timesheet!$A$7:$A$26,7))<>""),UPPER(TRIM(INDEX(Timesheet!$A$7:$A$26,7))),"") | B45: =IF(A45="","",Timesheet!$B$3+1) | C45: =IF(A45="","",INDEX(Timesheet!$C$7:$I$26,7,2)) | D45: =IF(A45="","",IF(INDEX(Timesheet!$K$7:$K$26,7)="","",INDEX(Timesheet!$K$7:$K$26,7))) | E45: =IF(A45="","",IF(INDEX(Timesheet!$B$7:$B$26,7)="","",INDEX(Timesheet!$B$7:$B$26,7)))
A46: =IF(AND(ISNUMBER(INDEX(Timesheet!$C$7:$I$26,7,3)),N(INDEX(Timesheet!$C$7:$I$26,7,3))>0,TRIM(INDEX(Timesheet!$A$7:$A$26,7))<>""),UPPER(TRIM(INDEX(Timesheet!$A$7:$A$26,7))),"") | B46: =IF(A46="","",Timesheet!$B$3+2) | C46: =IF(A46="","",INDEX(Timesheet!$C$7:$I$26,7,3)) | D46: =IF(A46="","",IF(INDEX(Timesheet!$K$7:$K$26,7)="","",INDEX(Timesheet!$K$7:$K$26,7))) | E46: =IF(A46="","",IF(INDEX(Timesheet!$B$7:$B$26,7)="","",INDEX(Timesheet!$B$7:$B$26,7)))
A47: =IF(AND(ISNUMBER(INDEX(Timesheet!$C$7:$I$26,7,4)),N(INDEX(Timesheet!$C$7:$I$26,7,4))>0,TRIM(INDEX(Timesheet!$A$7:$A$26,7))<>""),UPPER(TRIM(INDEX(Timesheet!$A$7:$A$26,7))),"") | B47: =IF(A47="","",Timesheet!$B$3+3) | C47: =IF(A47="","",INDEX(Timesheet!$C$7:$I$26,7,4)) | D47: =IF(A47="","",IF(INDEX(Timesheet!$K$7:$K$26,7)="","",INDEX(Timesheet!$K$7:$K$26,7))) | E47: =IF(A47="","",IF(INDEX(Timesheet!$B$7:$B$26,7)="","",INDEX(Timesheet!$B$7:$B$26,7)))
A48: =IF(AND(ISNUMBER(INDEX(Timesheet!$C$7:$I$26,7,5)),N(INDEX(Timesheet!$C$7:$I$26,7,5))>0,TRIM(INDEX(Timesheet!$A$7:$A$26,7))<>""),UPPER(TRIM(INDEX(Timesheet!$A$7:$A$26,7))),"") | B48: =IF(A48="","",Timesheet!$B$3+4) | C48: =IF(A48="","",INDEX(Timesheet!$C$7:$I$26,7,5)) | D48: =IF(A48="","",IF(INDEX(Timesheet!$K$7:$K$26,7)="","",INDEX(Timesheet!$K$7:$K$26,7))) | E48: =IF(A48="","",IF(INDEX(Timesheet!$B$7:$B$26,7)="","",INDEX(Timesheet!$B$7:$B$26,7)))
A49: =IF(AND(ISNUMBER(INDEX(Timesheet!$C$7:$I$26,7,6)),N(INDEX(Timesheet!$C$7:$I$26,7,6))>0,TRIM(INDEX(Timesheet!$A$7:$A$26,7))<>""),UPPER(TRIM(INDEX(Timesheet!$A$7:$A$26,7))),"") | B49: =IF(A49="","",Timesheet!$B$3+5) | C49: =IF(A49="","",INDEX(Timesheet!$C$7:$I$26,7,6)) | D49: =IF(A49="","",IF(INDEX(Timesheet!$K$7:$K$26,7)="","",INDEX(Timesheet!$K$7:$K$26,7))) | E49: =IF(A49="","",IF(INDEX(Timesheet!$B$7:$B$26,7)="","",INDEX(Timesheet!$B$7:$B$26,7)))
A50: =IF(AND(ISNUMBER(INDEX(Timesheet!$C$7:$I$26,7,7)),N(INDEX(Timesheet!$C$7:$I$26,7,7))>0,TRIM(INDEX(Timesheet!$A$7:$A$26,7))<>""),UPPER(TRIM(INDEX(Timesheet!$A$7:$A$26,7))),"") | B50: =IF(A50="","",Timesheet!$B$3+6) | C50: =IF(A50="","",INDEX(Timesheet!$C$7:$I$26,7,7)) | D50: =IF(A50="","",IF(INDEX(Timesheet!$K$7:$K$26,7)="","",INDEX(Timesheet!$K$7:$K$26,7))) | E50: =IF(A50="","",IF(INDEX(Timesheet!$B$7:$B$26,7)="","",INDEX(Timesheet!$B$7:$B$26,7)))
A51: =IF(AND(ISNUMBER(INDEX(Timesheet!$C$7:$I$26,8,1)),N(INDEX(Timesheet!$C$7:$I$26,8,1))>0,TRIM(INDEX(Timesheet!$A$7:$A$26,8))<>""),UPPER(TRIM(INDEX(Timesheet!$A$7:$A$26,8))),"") | B51: =IF(A51="","",Timesheet!$B$3+0) | C51: =IF(A51="","",INDEX(Timesheet!$C$7:$I$26,8,1)) | D51: =IF(A51="","",IF(INDEX(Timesheet!$K$7:$K$26,8)="","",INDEX(Timesheet!$K$7:$K$26,8))) | E51: =IF(A51="","",IF(INDEX(Timesheet!$B$7:$B$26,8)="","",INDEX(Timesheet!$B$7:$B$26,8)))
A52: =IF(AND(ISNUMBER(INDEX(Timesheet!$C$7:$I$26,8,2)),N(INDEX(Timesheet!$C$7:$I$26,8,2))>0,TRIM(INDEX(Timesheet!$A$7:$A$26,8))<>""),UPPER(TRIM(INDEX(Timesheet!$A$7:$A$26,8))),"") | B52: =IF(A52="","",Timesheet!$B$3+1) | C52: =IF(A52="","",INDEX(Timesheet!$C$7:$I$26,8,2)) | D52: =IF(A52="","",IF(INDEX(Timesheet!$K$7:$K$26,8)="","",INDEX(Timesheet!$K$7:$K$26,8))) | E52: =IF(A52="","",IF(INDEX(Timesheet!$B$7:$B$26,8)="","",INDEX(Timesheet!$B$7:$B$26,8)))
A53: =IF(AND(ISNUMBER(INDEX(Timesheet!$C$7:$I$26,8,3)),N(INDEX(Timesheet!$C$7:$I$26,8,3))>0,TRIM(INDEX(Timesheet!$A$7:$A$26,8))<>""),UPPER(TRIM(INDEX(Timesheet!$A$7:$A$26,8))),"") | B53: =IF(A53="","",Timesheet!$B$3+2) | C53: =IF(A53="","",INDEX(Timesheet!$C$7:$I$26,8,3)) | D53: =IF(A53="","",IF(INDEX(Timesheet!$K$7:$K$26,8)="","",INDEX(Timesheet!$K$7:$K$26,8))) | E53: =IF(A53="","",IF(INDEX(Timesheet!$B$7:$B$26,8)="","",INDEX(Timesheet!$B$7:$B$26,8)))
A54: =IF(AND(ISNUMBER(INDEX(Timesheet!$C$7:$I$26,8,4)),N(INDEX(Timesheet!$C$7:$I$26,8,4))>0,TRIM(INDEX(Timesheet!$A$7:$A$26,8))<>""),UPPER(TRIM(INDEX(Timesheet!$A$7:$A$26,8))),"") | B54: =IF(A54="","",Timesheet!$B$3+3) | C54: =IF(A54="","",INDEX(Timesheet!$C$7:$I$26,8,4)) | D54: =IF(A54="","",IF(INDEX(Timesheet!$K$7:$K$26,8)="","",INDEX(Timesheet!$K$7:$K$26,8))) | E54: =IF(A54="","",IF(INDEX(Timesheet!$B$7:$B$26,8)="","",INDEX(Timesheet!$B$7:$B$26,8)))
A55: =IF(AND(ISNUMBER(INDEX(Timesheet!$C$7:$I$26,8,5)),N(INDEX(Timesheet!$C$7:$I$26,8,5))>0,TRIM(INDEX(Timesheet!$A$7:$A$26,8))<>""),UPPER(TRIM(INDEX(Timesheet!$A$7:$A$26,8))),"") | B55: =IF(A55="","",Timesheet!$B$3+4) | C55: =IF(A55="","",INDEX(Timesheet!$C$7:$I$26,8,5)) | D55: =IF(A55="","",IF(INDEX(Timesheet!$K$7:$K$26,8)="","",INDEX(Timesheet!$K$7:$K$26,8))) | E55: =IF(A55="","",IF(INDEX(Timesheet!$B$7:$B$26,8)="","",INDEX(Timesheet!$B$7:$B$26,8)))
A56: =IF(AND(ISNUMBER(INDEX(Timesheet!$C$7:$I$26,8,6)),N(INDEX(Timesheet!$C$7:$I$26,8,6))>0,TRIM(INDEX(Timesheet!$A$7:$A$26,8))<>""),UPPER(TRIM(INDEX(Timesheet!$A$7:$A$26,8))),"") | B56: =IF(A56="","",Timesheet!$B$3+5) | C56: =IF(A56="","",INDEX(Timesheet!$C$7:$I$26,8,6)) | D56: =IF(A56="","",IF(INDEX(Timesheet!$K$7:$K$26,8)="","",INDEX(Timesheet!$K$7:$K$26,8))) | E56: =IF(A56="","",IF(INDEX(Timesheet!$B$7:$B$26,8)="","",INDEX(Timesheet!$B$7:$B$26,8)))
A57: =IF(AND(ISNUMBER(INDEX(Timesheet!$C$7:$I$26,8,7)),N(INDEX(Timesheet!$C$7:$I$26,8,7))>0,TRIM(INDEX(Timesheet!$A$7:$A$26,8))<>""),UPPER(TRIM(INDEX(Timesheet!$A$7:$A$26,8))),"") | B57: =IF(A57="","",Timesheet!$B$3+6) | C57: =IF(A57="","",INDEX(Timesheet!$C$7:$I$26,8,7)) | D57: =IF(A57="","",IF(INDEX(Timesheet!$K$7:$K$26,8)="","",INDEX(Timesheet!$K$7:$K$26,8))) | E57: =IF(A57="","",IF(INDEX(Timesheet!$B$7:$B$26,8)="","",INDEX(Timesheet!$B$7:$B$26,8)))
A58: =IF(AND(ISNUMBER(INDEX(Timesheet!$C$7:$I$26,9,1)),N(INDEX(Timesheet!$C$7:$I$26,9,1))>0,TRIM(INDEX(Timesheet!$A$7:$A$26,9))<>""),UPPER(TRIM(INDEX(Timesheet!$A$7:$A$26,9))),"") | B58: =IF(A58="","",Timesheet!$B$3+0) | C58: =IF(A58="","",INDEX(Timesheet!$C$7:$I$26,9,1)) | D58: =IF(A58="","",IF(INDEX(Timesheet!$K$7:$K$26,9)="","",INDEX(Timesheet!$K$7:$K$26,9))) | E58: =IF(A58="","",IF(INDEX(Timesheet!$B$7:$B$26,9)="","",INDEX(Timesheet!$B$7:$B$26,9)))
A59: =IF(AND(ISNUMBER(INDEX(Timesheet!$C$7:$I$26,9,2)),N(INDEX(Timesheet!$C$7:$I$26,9,2))>0,TRIM(INDEX(Timesheet!$A$7:$A$26,9))<>""),UPPER(TRIM(INDEX(Timesheet!$A$7:$A$26,9))),"") | B59: =IF(A59="","",Timesheet!$B$3+1) | C59: =IF(A59="","",INDEX(Timesheet!$C$7:$I$26,9,2)) | D59: =IF(A59="","",IF(INDEX(Timesheet!$K$7:$K$26,9)="","",INDEX(Timesheet!$K$7:$K$26,9))) | E59: =IF(A59="","",IF(INDEX(Timesheet!$B$7:$B$26,9)="","",INDEX(Timesheet!$B$7:$B$26,9)))
A60: =IF(AND(ISNUMBER(INDEX(Timesheet!$C$7:$I$26,9,3)),N(INDEX(Timesheet!$C$7:$I$26,9,3))>0,TRIM(INDEX(Timesheet!$A$7:$A$26,9))<>""),UPPER(TRIM(INDEX(Timesheet!$A$7:$A$26,9))),"") | B60: =IF(A60="","",Timesheet!$B$3+2) | C60: =IF(A60="","",INDEX(Timesheet!$C$7:$I$26,9,3)) | D60: =IF(A60="","",IF(INDEX(Timesheet!$K$7:$K$26,9)="","",INDEX(Timesheet!$K$7:$K$26,9))) | E60: =IF(A60="","",IF(INDEX(Timesheet!$B$7:$B$26,9)="","",INDEX(Timesheet!$B$7:$B$26,9)))
A61: =IF(AND(ISNUMBER(INDEX(Timesheet!$C$7:$I$26,9,4)),N(INDEX(Timesheet!$C$7:$I$26,9,4))>0,TRIM(INDEX(Timesheet!$A$7:$A$26,9))<>""),UPPER(TRIM(INDEX(Timesheet!$A$7:$A$26,9))),"") | B61: =IF(A61="","",Timesheet!$B$3+3) | C61: =IF(A61="","",INDEX(Timesheet!$C$7:$I$26,9,4)) | D61: =IF(A61="","",IF(INDEX(Timesheet!$K$7:$K$26,9)="","",INDEX(Timesheet!$K$7:$K$26,9))) | E61: =IF(A61="","",IF(INDEX(Timesheet!$B$7:$B$26,9)="","",INDEX(Timesheet!$B$7:$B$26,9)))
A62: =IF(AND(ISNUMBER(INDEX(Timesheet!$C$7:$I$26,9,5)),N(INDEX(Timesheet!$C$7:$I$26,9,5))>0,TRIM(INDEX(Timesheet!$A$7:$A$26,9))<>""),UPPER(TRIM(INDEX(Timesheet!$A$7:$A$26,9))),"") | B62: =IF(A62="","",Timesheet!$B$3+4) | C62: =IF(A62="","",INDEX(Timesheet!$C$7:$I$26,9,5)) | D62: =IF(A62="","",IF(INDEX(Timesheet!$K$7:$K$26,9)="","",INDEX(Timesheet!$K$7:$K$26,9))) | E62: =IF(A62="","",IF(INDEX(Timesheet!$B$7:$B$26,9)="","",INDEX(Timesheet!$B$7:$B$26,9)))
A63: =IF(AND(ISNUMBER(INDEX(Timesheet!$C$7:$I$26,9,6)),N(INDEX(Timesheet!$C$7:$I$26,9,6))>0,TRIM(INDEX(Timesheet!$A$7:$A$26,9))<>""),UPPER(TRIM(INDEX(Timesheet!$A$7:$A$26,9))),"") | B63: =IF(A63="","",Timesheet!$B$3+5) | C63: =IF(A63="","",INDEX(Timesheet!$C$7:$I$26,9,6)) | D63: =IF(A63="","",IF(INDEX(Timesheet!$K$7:$K$26,9)="","",INDEX(Timesheet!$K$7:$K$26,9))) | E63: =IF(A63="","",IF(INDEX(Timesheet!$B$7:$B$26,9)="","",INDEX(Timesheet!$B$7:$B$26,9)))
A64: =IF(AND(ISNUMBER(INDEX(Timesheet!$C$7:$I$26,9,7)),N(INDEX(Timesheet!$C$7:$I$26,9,7))>0,TRIM(INDEX(Timesheet!$A$7:$A$26,9))<>""),UPPER(TRIM(INDEX(Timesheet!$A$7:$A$26,9))),"") | B64: =IF(A64="","",Timesheet!$B$3+6) | C64: =IF(A64="","",INDEX(Timesheet!$C$7:$I$26,9,7)) | D64: =IF(A64="","",IF(INDEX(Timesheet!$K$7:$K$26,9)="","",INDEX(Timesheet!$K$7:$K$26,9))) | E64: =IF(A64="","",IF(INDEX(Timesheet!$B$7:$B$26,9)="","",INDEX(Timesheet!$B$7:$B$26,9)))
A65: =IF(AND(ISNUMBER(INDEX(Timesheet!$C$7:$I$26,10,1)),N(INDEX(Timesheet!$C$7:$I$26,10,1))>0,TRIM(INDEX(Timesheet!$A$7:$A$26,10))<>""),UPPER(TRIM(INDEX(Timesheet!$A$7:$A$26,10))),"") | B65: =IF(A65="","",Timesheet!$B$3+0) | C65: =IF(A65="","",INDEX(Timesheet!$C$7:$I$26,10,1)) | D65: =IF(A65="","",IF(INDEX(Timesheet!$K$7:$K$26,10)="","",INDEX(Timesheet!$K$7:$K$26,10))) | E65: =IF(A65="","",IF(INDEX(Timesheet!$B$7:$B$26,10)="","",INDEX(Timesheet!$B$7:$B$26,10)))
A66: =IF(AND(ISNUMBER(INDEX(Timesheet!$C$7:$I$26,10,2)),N(INDEX(Timesheet!$C$7:$I$26,10,2))>0,TRIM(INDEX(Timesheet!$A$7:$A$26,10))<>""),UPPER(TRIM(INDEX(Timesheet!$A$7:$A$26,10))),"") | B66: =IF(A66="","",Timesheet!$B$3+1) | C66: =IF(A66="","",INDEX(Timesheet!$C$7:$I$26,10,2)) | D66: =IF(A66="","",IF(INDEX(Timesheet!$K$7:$K$26,10)="","",INDEX(Timesheet!$K$7:$K$26,10))) | E66: =IF(A66="","",IF(INDEX(Timesheet!$B$7:$B$26,10)="","",INDEX(Timesheet!$B$7:$B$26,10)))
A67: =IF(AND(ISNUMBER(INDEX(Timesheet!$C$7:$I$26,10,3)),N(INDEX(Timesheet!$C$7:$I$26,10,3))>0,TRIM(INDEX(Timesheet!$A$7:$A$26,10))<>""),UPPER(TRIM(INDEX(Timesheet!$A$7:$A$26,10))),"") | B67: =IF(A67="","",Timesheet!$B$3+2) | C67: =IF(A67="","",INDEX(Timesheet!$C$7:$I$26,10,3)) | D67: =IF(A67="","",IF(INDEX(Timesheet!$K$7:$K$26,10)="","",INDEX(Timesheet!$K$7:$K$26,10))) | E67: =IF(A67="","",IF(INDEX(Timesheet!$B$7:$B$26,10)="","",INDEX(Timesheet!$B$7:$B$26,10)))
A68: =IF(AND(ISNUMBER(INDEX(Timesheet!$C$7:$I$26,10,4)),N(INDEX(Timesheet!$C$7:$I$26,10,4))>0,TRIM(INDEX(Timesheet!$A$7:$A$26,10))<>""),UPPER(TRIM(INDEX(Timesheet!$A$7:$A$26,10))),"") | B68: =IF(A68="","",Timesheet!$B$3+3) | C68: =IF(A68="","",INDEX(Timesheet!$C$7:$I$26,10,4)) | D68: =IF(A68="","",IF(INDEX(Timesheet!$K$7:$K$26,10)="","",INDEX(Timesheet!$K$7:$K$26,10))) | E68: =IF(A68="","",IF(INDEX(Timesheet!$B$7:$B$26,10)="","",INDEX(Timesheet!$B$7:$B$26,10)))
A69: =IF(AND(ISNUMBER(INDEX(Timesheet!$C$7:$I$26,10,5)),N(INDEX(Timesheet!$C$7:$I$26,10,5))>0,TRIM(INDEX(Timesheet!$A$7:$A$26,10))<>""),UPPER(TRIM(INDEX(Timesheet!$A$7:$A$26,10))),"") | B69: =IF(A69="","",Timesheet!$B$3+4) | C69: =IF(A69="","",INDEX(Timesheet!$C$7:$I$26,10,5)) | D69: =IF(A69="","",IF(INDEX(Timesheet!$K$7:$K$26,10)="","",INDEX(Timesheet!$K$7:$K$26,10))) | E69: =IF(A69="","",IF(INDEX(Timesheet!$B$7:$B$26,10)="","",INDEX(Timesheet!$B$7:$B$26,10)))
A70: =IF(AND(ISNUMBER(INDEX(Timesheet!$C$7:$I$26,10,6)),N(INDEX(Timesheet!$C$7:$I$26,10,6))>0,TRIM(INDEX(Timesheet!$A$7:$A$26,10))<>""),UPPER(TRIM(INDEX(Timesheet!$A$7:$A$26,10))),"") | B70: =IF(A70="","",Timesheet!$B$3+5) | C70: =IF(A70="","",INDEX(Timesheet!$C$7:$I$26,10,6)) | D70: =IF(A70="","",IF(INDEX(Timesheet!$K$7:$K$26,10)="","",INDEX(Timesheet!$K$7:$K$26,10))) | E70: =IF(A70="","",IF(INDEX(Timesheet!$B$7:$B$26,10)="","",INDEX(Timesheet!$B$7:$B$26,10)))
A71: =IF(AND(ISNUMBER(INDEX(Timesheet!$C$7:$I$26,10,7)),N(INDEX(Timesheet!$C$7:$I$26,10,7))>0,TRIM(INDEX(Timesheet!$A$7:$A$26,10))<>""),UPPER(TRIM(INDEX(Timesheet!$A$7:$A$26,10))),"") | B71: =IF(A71="","",Timesheet!$B$3+6) | C71: =IF(A71="","",INDEX(Timesheet!$C$7:$I$26,10,7)) | D71: =IF(A71="","",IF(INDEX(Timesheet!$K$7:$K$26,10)="","",INDEX(Timesheet!$K$7:$K$26,10))) | E71: =IF(A71="","",IF(INDEX(Timesheet!$B$7:$B$26,10)="","",INDEX(Timesheet!$B$7:$B$26,10)))
A72: =IF(AND(ISNUMBER(INDEX(Timesheet!$C$7:$I$26,11,1)),N(INDEX(Timesheet!$C$7:$I$26,11,1))>0,TRIM(INDEX(Timesheet!$A$7:$A$26,11))<>""),UPPER(TRIM(INDEX(Timesheet!$A$7:$A$26,11))),"") | B72: =IF(A72="","",Timesheet!$B$3+0) | C72: =IF(A72="","",INDEX(Timesheet!$C$7:$I$26,11,1)) | D72: =IF(A72="","",IF(INDEX(Timesheet!$K$7:$K$26,11)="","",INDEX(Timesheet!$K$7:$K$26,11))) | E72: =IF(A72="","",IF(INDEX(Timesheet!$B$7:$B$26,11)="","",INDEX(Timesheet!$B$7:$B$26,11)))
A73: =IF(AND(ISNUMBER(INDEX(Timesheet!$C$7:$I$26,11,2)),N(INDEX(Timesheet!$C$7:$I$26,11,2))>0,TRIM(INDEX(Timesheet!$A$7:$A$26,11))<>""),UPPER(TRIM(INDEX(Timesheet!$A$7:$A$26,11))),"") | B73: =IF(A73="","",Timesheet!$B$3+1) | C73: =IF(A73="","",INDEX(Timesheet!$C$7:$I$26,11,2)) | D73: =IF(A73="","",IF(INDEX(Timesheet!$K$7:$K$26,11)="","",INDEX(Timesheet!$K$7:$K$26,11))) | E73: =IF(A73="","",IF(INDEX(Timesheet!$B$7:$B$26,11)="","",INDEX(Timesheet!$B$7:$B$26,11)))
A74: =IF(AND(ISNUMBER(INDEX(Timesheet!$C$7:$I$26,11,3)),N(INDEX(Timesheet!$C$7:$I$26,11,3))>0,TRIM(INDEX(Timesheet!$A$7:$A$26,11))<>""),UPPER(TRIM(INDEX(Timesheet!$A$7:$A$26,11))),"") | B74: =IF(A74="","",Timesheet!$B$3+2) | C74: =IF(A74="","",INDEX(Timesheet!$C$7:$I$26,11,3)) | D74: =IF(A74="","",IF(INDEX(Timesheet!$K$7:$K$26,11)="","",INDEX(Timesheet!$K$7:$K$26,11))) | E74: =IF(A74="","",IF(INDEX(Timesheet!$B$7:$B$26,11)="","",INDEX(Timesheet!$B$7:$B$26,11)))
A75: =IF(AND(ISNUMBER(INDEX(Timesheet!$C$7:$I$26,11,4)),N(INDEX(Timesheet!$C$7:$I$26,11,4))>0,TRIM(INDEX(Timesheet!$A$7:$A$26,11))<>""),UPPER(TRIM(INDEX(Timesheet!$A$7:$A$26,11))),"") | B75: =IF(A75="","",Timesheet!$B$3+3) | C75: =IF(A75="","",INDEX(Timesheet!$C$7:$I$26,11,4)) | D75: =IF(A75="","",IF(INDEX(Timesheet!$K$7:$K$26,11)="","",INDEX(Timesheet!$K$7:$K$26,11))) | E75: =IF(A75="","",IF(INDEX(Timesheet!$B$7:$B$26,11)="","",INDEX(Timesheet!$B$7:$B$26,11)))
A76: =IF(AND(ISNUMBER(INDEX(Timesheet!$C$7:$I$26,11,5)),N(INDEX(Timesheet!$C$7:$I$26,11,5))>0,TRIM(INDEX(Timesheet!$A$7:$A$26,11))<>""),UPPER(TRIM(INDEX(Timesheet!$A$7:$A$26,11))),"") | B76: =IF(A76="","",Timesheet!$B$3+4) | C76: =IF(A76="","",INDEX(Timesheet!$C$7:$I$26,11,5)) | D76: =IF(A76="","",IF(INDEX(Timesheet!$K$7:$K$26,11)="","",INDEX(Timesheet!$K$7:$K$26,11))) | E76: =IF(A76="","",IF(INDEX(Timesheet!$B$7:$B$26,11)="","",INDEX(Timesheet!$B$7:$B$26,11)))
A77: =IF(AND(ISNUMBER(INDEX(Timesheet!$C$7:$I$26,11,6)),N(INDEX(Timesheet!$C$7:$I$26,11,6))>0,TRIM(INDEX(Timesheet!$A$7:$A$26,11))<>""),UPPER(TRIM(INDEX(Timesheet!$A$7:$A$26,11))),"") | B77: =IF(A77="","",Timesheet!$B$3+5) | C77: =IF(A77="","",INDEX(Timesheet!$C$7:$I$26,11,6)) | D77: =IF(A77="","",IF(INDEX(Timesheet!$K$7:$K$26,11)="","",INDEX(Timesheet!$K$7:$K$26,11))) | E77: =IF(A77="","",IF(INDEX(Timesheet!$B$7:$B$26,11)="","",INDEX(Timesheet!$B$7:$B$26,11)))
A78: =IF(AND(ISNUMBER(INDEX(Timesheet!$C$7:$I$26,11,7)),N(INDEX(Timesheet!$C$7:$I$26,11,7))>0,TRIM(INDEX(Timesheet!$A$7:$A$26,11))<>""),UPPER(TRIM(INDEX(Timesheet!$A$7:$A$26,11))),"") | B78: =IF(A78="","",Timesheet!$B$3+6) | C78: =IF(A78="","",INDEX(Timesheet!$C$7:$I$26,11,7)) | D78: =IF(A78="","",IF(INDEX(Timesheet!$K$7:$K$26,11)="","",INDEX(Timesheet!$K$7:$K$26,11))) | E78: =IF(A78="","",IF(INDEX(Timesheet!$B$7:$B$26,11)="","",INDEX(Timesheet!$B$7:$B$26,11)))
A79: =IF(AND(ISNUMBER(INDEX(Timesheet!$C$7:$I$26,12,1)),N(INDEX(Timesheet!$C$7:$I$26,12,1))>0,TRIM(INDEX(Timesheet!$A$7:$A$26,12))<>""),UPPER(TRIM(INDEX(Timesheet!$A$7:$A$26,12))),"") | B79: =IF(A79="","",Timesheet!$B$3+0) | C79: =IF(A79="","",INDEX(Timesheet!$C$7:$I$26,12,1)) | D79: =IF(A79="","",IF(INDEX(Timesheet!$K$7:$K$26,12)="","",INDEX(Timesheet!$K$7:$K$26,12))) | E79: =IF(A79="","",IF(INDEX(Timesheet!$B$7:$B$26,12)="","",INDEX(Timesheet!$B$7:$B$26,12)))
A80: =IF(AND(ISNUMBER(INDEX(Timesheet!$C$7:$I$26,12,2)),N(INDEX(Timesheet!$C$7:$I$26,12,2))>0,TRIM(INDEX(Timesheet!$A$7:$A$26,12))<>""),UPPER(TRIM(INDEX(Timesheet!$A$7:$A$26,12))),"") | B80: =IF(A80="","",Timesheet!$B$3+1) | C80: =IF(A80="","",INDEX(Timesheet!$C$7:$I$26,12,2)) | D80: =IF(A80="","",IF(INDEX(Timesheet!$K$7:$K$26,12)="","",INDEX(Timesheet!$K$7:$K$26,12))) | E80: =IF(A80="","",IF(INDEX(Timesheet!$B$7:$B$26,12)="","",INDEX(Timesheet!$B$7:$B$26,12)))
A81: =IF(AND(ISNUMBER(INDEX(Timesheet!$C$7:$I$26,12,3)),N(INDEX(Timesheet!$C$7:$I$26,12,3))>0,TRIM(INDEX(Timesheet!$A$7:$A$26,12))<>""),UPPER(TRIM(INDEX(Timesheet!$A$7:$A$26,12))),"") | B81: =IF(A81="","",Timesheet!$B$3+2) | C81: =IF(A81="","",INDEX(Timesheet!$C$7:$I$26,12,3)) | D81: =IF(A81="","",IF(INDEX(Timesheet!$K$7:$K$26,12)="","",INDEX(Timesheet!$K$7:$K$26,12))) | E81: =IF(A81="","",IF(INDEX(Timesheet!$B$7:$B$26,12)="","",INDEX(Timesheet!$B$7:$B$26,12)))
A82: =IF(AND(ISNUMBER(INDEX(Timesheet!$C$7:$I$26,12,4)),N(INDEX(Timesheet!$C$7:$I$26,12,4))>0,TRIM(INDEX(Timesheet!$A$7:$A$26,12))<>""),UPPER(TRIM(INDEX(Timesheet!$A$7:$A$26,12))),"") | B82: =IF(A82="","",Timesheet!$B$3+3) | C82: =IF(A82="","",INDEX(Timesheet!$C$7:$I$26,12,4)) | D82: =IF(A82="","",IF(INDEX(Timesheet!$K$7:$K$26,12)="","",INDEX(Timesheet!$K$7:$K$26,12))) | E82: =IF(A82="","",IF(INDEX(Timesheet!$B$7:$B$26,12)="","",INDEX(Timesheet!$B$7:$B$26,12)))
A83: =IF(AND(ISNUMBER(INDEX(Timesheet!$C$7:$I$26,12,5)),N(INDEX(Timesheet!$C$7:$I$26,12,5))>0,TRIM(INDEX(Timesheet!$A$7:$A$26,12))<>""),UPPER(TRIM(INDEX(Timesheet!$A$7:$A$26,12))),"") | B83: =IF(A83="","",Timesheet!$B$3+4) | C83: =IF(A83="","",INDEX(Timesheet!$C$7:$I$26,12,5)) | D83: =IF(A83="","",IF(INDEX(Timesheet!$K$7:$K$26,12)="","",INDEX(Timesheet!$K$7:$K$26,12))) | E83: =IF(A83="","",IF(INDEX(Timesheet!$B$7:$B$26,12)="","",INDEX(Timesheet!$B$7:$B$26,12)))
A84: =IF(AND(ISNUMBER(INDEX(Timesheet!$C$7:$I$26,12,6)),N(INDEX(Timesheet!$C$7:$I$26,12,6))>0,TRIM(INDEX(Timesheet!$A$7:$A$26,12))<>""),UPPER(TRIM(INDEX(Timesheet!$A$7:$A$26,12))),"") | B84: =IF(A84="","",Timesheet!$B$3+5) | C84: =IF(A84="","",INDEX(Timesheet!$C$7:$I$26,12,6)) | D84: =IF(A84="","",IF(INDEX(Timesheet!$K$7:$K$26,12)="","",INDEX(Timesheet!$K$7:$K$26,12))) | E84: =IF(A84="","",IF(INDEX(Timesheet!$B$7:$B$26,12)="","",INDEX(Timesheet!$B$7:$B$26,12)))
A85: =IF(AND(ISNUMBER(INDEX(Timesheet!$C$7:$I$26,12,7)),N(INDEX(Timesheet!$C$7:$I$26,12,7))>0,TRIM(INDEX(Timesheet!$A$7:$A$26,12))<>""),UPPER(TRIM(INDEX(Timesheet!$A$7:$A$26,12))),"") | B85: =IF(A85="","",Timesheet!$B$3+6) | C85: =IF(A85="","",INDEX(Timesheet!$C$7:$I$26,12,7)) | D85: =IF(A85="","",IF(INDEX(Timesheet!$K$7:$K$26,12)="","",INDEX(Timesheet!$K$7:$K$26,12))) | E85: =IF(A85="","",IF(INDEX(Timesheet!$B$7:$B$26,12)="","",INDEX(Timesheet!$B$7:$B$26,12)))
A86: =IF(AND(ISNUMBER(INDEX(Timesheet!$C$7:$I$26,13,1)),N(INDEX(Timesheet!$C$7:$I$26,13,1))>0,TRIM(INDEX(Timesheet!$A$7:$A$26,13))<>""),UPPER(TRIM(INDEX(Timesheet!$A$7:$A$26,13))),"") | B86: =IF(A86="","",Timesheet!$B$3+0) | C86: =IF(A86="","",INDEX(Timesheet!$C$7:$I$26,13,1)) | D86: =IF(A86="","",IF(INDEX(Timesheet!$K$7:$K$26,13)="","",INDEX(Timesheet!$K$7:$K$26,13))) | E86: =IF(A86="","",IF(INDEX(Timesheet!$B$7:$B$26,13)="","",INDEX(Timesheet!$B$7:$B$26,13)))
A87: =IF(AND(ISNUMBER(INDEX(Timesheet!$C$7:$I$26,13,2)),N(INDEX(Timesheet!$C$7:$I$26,13,2))>0,TRIM(INDEX(Timesheet!$A$7:$A$26,13))<>""),UPPER(TRIM(INDEX(Timesheet!$A$7:$A$26,13))),"") | B87: =IF(A87="","",Timesheet!$B$3+1) | C87: =IF(A87="","",INDEX(Timesheet!$C$7:$I$26,13,2)) | D87: =IF(A87="","",IF(INDEX(Timesheet!$K$7:$K$26,13)="","",INDEX(Timesheet!$K$7:$K$26,13))) | E87: =IF(A87="","",IF(INDEX(Timesheet!$B$7:$B$26,13)="","",INDEX(Timesheet!$B$7:$B$26,13)))
A88: =IF(AND(ISNUMBER(INDEX(Timesheet!$C$7:$I$26,13,3)),N(INDEX(Timesheet!$C$7:$I$26,13,3))>0,TRIM(INDEX(Timesheet!$A$7:$A$26,13))<>""),UPPER(TRIM(INDEX(Timesheet!$A$7:$A$26,13))),"") | B88: =IF(A88="","",Timesheet!$B$3+2) | C88: =IF(A88="","",INDEX(Timesheet!$C$7:$I$26,13,3)) | D88: =IF(A88="","",IF(INDEX(Timesheet!$K$7:$K$26,13)="","",INDEX(Timesheet!$K$7:$K$26,13))) | E88: =IF(A88="","",IF(INDEX(Timesheet!$B$7:$B$26,13)="","",INDEX(Timesheet!$B$7:$B$26,13)))
A89: =IF(AND(ISNUMBER(INDEX(Timesheet!$C$7:$I$26,13,4)),N(INDEX(Timesheet!$C$7:$I$26,13,4))>0,TRIM(INDEX(Timesheet!$A$7:$A$26,13))<>""),UPPER(TRIM(INDEX(Timesheet!$A$7:$A$26,13))),"") | B89: =IF(A89="","",Timesheet!$B$3+3) | C89: =IF(A89="","",INDEX(Timesheet!$C$7:$I$26,13,4)) | D89: =IF(A89="","",IF(INDEX(Timesheet!$K$7:$K$26,13)="","",INDEX(Timesheet!$K$7:$K$26,13))) | E89: =IF(A89="","",IF(INDEX(Timesheet!$B$7:$B$26,13)="","",INDEX(Timesheet!$B$7:$B$26,13)))
A90: =IF(AND(ISNUMBER(INDEX(Timesheet!$C$7:$I$26,13,5)),N(INDEX(Timesheet!$C$7:$I$26,13,5))>0,TRIM(INDEX(Timesheet!$A$7:$A$26,13))<>""),UPPER(TRIM(INDEX(Timesheet!$A$7:$A$26,13))),"") | B90: =IF(A90="","",Timesheet!$B$3+4) | C90: =IF(A90="","",INDEX(Timesheet!$C$7:$I$26,13,5)) | D90: =IF(A90="","",IF(INDEX(Timesheet!$K$7:$K$26,13)="","",INDEX(Timesheet!$K$7:$K$26,13))) | E90: =IF(A90="","",IF(INDEX(Timesheet!$B$7:$B$26,13)="","",INDEX(Timesheet!$B$7:$B$26,13)))
A91: =IF(AND(ISNUMBER(INDEX(Timesheet!$C$7:$I$26,13,6)),N(INDEX(Timesheet!$C$7:$I$26,13,6))>0,TRIM(INDEX(Timesheet!$A$7:$A$26,13))<>""),UPPER(TRIM(INDEX(Timesheet!$A$7:$A$26,13))),"") | B91: =IF(A91="","",Timesheet!$B$3+5) | C91: =IF(A91="","",INDEX(Timesheet!$C$7:$I$26,13,6)) | D91: =IF(A91="","",IF(INDEX(Timesheet!$K$7:$K$26,13)="","",INDEX(Timesheet!$K$7:$K$26,13))) | E91: =IF(A91="","",IF(INDEX(Timesheet!$B$7:$B$26,13)="","",INDEX(Timesheet!$B$7:$B$26,13)))
A92: =IF(AND(ISNUMBER(INDEX(Timesheet!$C$7:$I$26,13,7)),N(INDEX(Timesheet!$C$7:$I$26,13,7))>0,TRIM(INDEX(Timesheet!$A$7:$A$26,13))<>""),UPPER(TRIM(INDEX(Timesheet!$A$7:$A$26,13))),"") | B92: =IF(A92="","",Timesheet!$B$3+6) | C92: =IF(A92="","",INDEX(Timesheet!$C$7:$I$26,13,7)) | D92: =IF(A92="","",IF(INDEX(Timesheet!$K$7:$K$26,13)="","",INDEX(Timesheet!$K$7:$K$26,13))) | E92: =IF(A92="","",IF(INDEX(Timesheet!$B$7:$B$26,13)="","",INDEX(Timesheet!$B$7:$B$26,13)))
A93: =IF(AND(ISNUMBER(INDEX(Timesheet!$C$7:$I$26,14,1)),N(INDEX(Timesheet!$C$7:$I$26,14,1))>0,TRIM(INDEX(Timesheet!$A$7:$A$26,14))<>""),UPPER(TRIM(INDEX(Timesheet!$A$7:$A$26,14))),"") | B93: =IF(A93="","",Timesheet!$B$3+0) | C93: =IF(A93="","",INDEX(Timesheet!$C$7:$I$26,14,1)) | D93: =IF(A93="","",IF(INDEX(Timesheet!$K$7:$K$26,14)="","",INDEX(Timesheet!$K$7:$K$26,14))) | E93: =IF(A93="","",IF(INDEX(Timesheet!$B$7:$B$26,14)="","",INDEX(Timesheet!$B$7:$B$26,14)))
A94: =IF(AND(ISNUMBER(INDEX(Timesheet!$C$7:$I$26,14,2)),N(INDEX(Timesheet!$C$7:$I$26,14,2))>0,TRIM(INDEX(Timesheet!$A$7:$A$26,14))<>""),UPPER(TRIM(INDEX(Timesheet!$A$7:$A$26,14))),"") | B94: =IF(A94="","",Timesheet!$B$3+1) | C94: =IF(A94="","",INDEX(Timesheet!$C$7:$I$26,14,2)) | D94: =IF(A94="","",IF(INDEX(Timesheet!$K$7:$K$26,14)="","",INDEX(Timesheet!$K$7:$K$26,14))) | E94: =IF(A94="","",IF(INDEX(Timesheet!$B$7:$B$26,14)="","",INDEX(Timesheet!$B$7:$B$26,14)))
A95: =IF(AND(ISNUMBER(INDEX(Timesheet!$C$7:$I$26,14,3)),N(INDEX(Timesheet!$C$7:$I$26,14,3))>0,TRIM(INDEX(Timesheet!$A$7:$A$26,14))<>""),UPPER(TRIM(INDEX(Timesheet!$A$7:$A$26,14))),"") | B95: =IF(A95="","",Timesheet!$B$3+2) | C95: =IF(A95="","",INDEX(Timesheet!$C$7:$I$26,14,3)) | D95: =IF(A95="","",IF(INDEX(Timesheet!$K$7:$K$26,14)="","",INDEX(Timesheet!$K$7:$K$26,14))) | E95: =IF(A95="","",IF(INDEX(Timesheet!$B$7:$B$26,14)="","",INDEX(Timesheet!$B$7:$B$26,14)))
A96: =IF(AND(ISNUMBER(INDEX(Timesheet!$C$7:$I$26,14,4)),N(INDEX(Timesheet!$C$7:$I$26,14,4))>0,TRIM(INDEX(Timesheet!$A$7:$A$26,14))<>""),UPPER(TRIM(INDEX(Timesheet!$A$7:$A$26,14))),"") | B96: =IF(A96="","",Timesheet!$B$3+3) | C96: =IF(A96="","",INDEX(Timesheet!$C$7:$I$26,14,4)) | D96: =IF(A96="","",IF(INDEX(Timesheet!$K$7:$K$26,14)="","",INDEX(Timesheet!$K$7:$K$26,14))) | E96: =IF(A96="","",IF(INDEX(Timesheet!$B$7:$B$26,14)="","",INDEX(Timesheet!$B$7:$B$26,14)))
A97: =IF(AND(ISNUMBER(INDEX(Timesheet!$C$7:$I$26,14,5)),N(INDEX(Timesheet!$C$7:$I$26,14,5))>0,TRIM(INDEX(Timesheet!$A$7:$A$26,14))<>""),UPPER(TRIM(INDEX(Timesheet!$A$7:$A$26,14))),"") | B97: =IF(A97="","",Timesheet!$B$3+4) | C97: =IF(A97="","",INDEX(Timesheet!$C$7:$I$26,14,5)) | D97: =IF(A97="","",IF(INDEX(Timesheet!$K$7:$K$26,14)="","",INDEX(Timesheet!$K$7:$K$26,14))) | E97: =IF(A97="","",IF(INDEX(Timesheet!$B$7:$B$26,14)="","",INDEX(Timesheet!$B$7:$B$26,14)))
A98: =IF(AND(ISNUMBER(INDEX(Timesheet!$C$7:$I$26,14,6)),N(INDEX(Timesheet!$C$7:$I$26,14,6))>0,TRIM(INDEX(Timesheet!$A$7:$A$26,14))<>""),UPPER(TRIM(INDEX(Timesheet!$A$7:$A$26,14))),"") | B98: =IF(A98="","",Timesheet!$B$3+5) | C98: =IF(A98="","",INDEX(Timesheet!$C$7:$I$26,14,6)) | D98: =IF(A98="","",IF(INDEX(Timesheet!$K$7:$K$26,14)="","",INDEX(Timesheet!$K$7:$K$26,14))) | E98: =IF(A98="","",IF(INDEX(Timesheet!$B$7:$B$26,14)="","",INDEX(Timesheet!$B$7:$B$26,14)))
A99: =IF(AND(ISNUMBER(INDEX(Timesheet!$C$7:$I$26,14,7)),N(INDEX(Timesheet!$C$7:$I$26,14,7))>0,TRIM(INDEX(Timesheet!$A$7:$A$26,14))<>""),UPPER(TRIM(INDEX(Timesheet!$A$7:$A$26,14))),"") | B99: =IF(A99="","",Timesheet!$B$3+6) | C99: =IF(A99="","",INDEX(Timesheet!$C$7:$I$26,14,7)) | D99: =IF(A99="","",IF(INDEX(Timesheet!$K$7:$K$26,14)="","",INDEX(Timesheet!$K$7:$K$26,14))) | E99: =IF(A99="","",IF(INDEX(Timesheet!$B$7:$B$26,14)="","",INDEX(Timesheet!$B$7:$B$26,14)))
A100: =IF(AND(ISNUMBER(INDEX(Timesheet!$C$7:$I$26,15,1)),N(INDEX(Timesheet!$C$7:$I$26,15,1))>0,TRIM(INDEX(Timesheet!$A$7:$A$26,15))<>""),UPPER(TRIM(INDEX(Timesheet!$A$7:$A$26,15))),"") | B100: =IF(A100="","",Timesheet!$B$3+0) | C100: =IF(A100="","",INDEX(Timesheet!$C$7:$I$26,15,1)) | D100: =IF(A100="","",IF(INDEX(Timesheet!$K$7:$K$26,15)="","",INDEX(Timesheet!$K$7:$K$26,15))) | E100: =IF(A100="","",IF(INDEX(Timesheet!$B$7:$B$26,15)="","",INDEX(Timesheet!$B$7:$B$26,15)))
...

Sheet Instructions
A1: Jira weekly timesheet template
A3: Timesheet sheet
A4: 1. Type your name and the Monday the week starts on. The date of each day fills in under Mon to Sun.
A5: 2. One row per Jira issue: the issue key (for example PRJ-12) and, if you like, its summary.
A6: 3. Type hours as decimals: 1.5 is 1 hour 30 minutes, 0.75 is 45 minutes, 0.25 is 15 minutes.
A7: 4. Choose Yes or No under Billable for each row. Billable and non-billable hours are added up under the totals.
A8: 5. Change Required hours this week if yours are not 40 (part-time, a holiday). Hours short of required shows what is missing.
A10: Entries sheet
A11: It turns the grid into one row per issue and day that has hours: Issue key, Date, Hours, Billable, Description.
A12: Do not type in it; it fills in from the Timesheet sheet. Rows without hours stay empty.
A13: To make a CSV file of your entries: open the Entries sheet, then File, Save As, and choose CSV UTF-8. Excel saves only the open sheet.
A14: Jira has no built-in CSV import for worklogs. A time tracking app can read the file: the Import tab of Saguaro Hours for Jira
... A20: Made by LeDuc Systems LLC: https://leducsystems.com/saguaro-hours/jira-weekly-timesheet/ . Free to use, copy and change.
